Workbook

Sheet basiscijfers
A1: Aantal wetenschappelijke publicaties
A2: 2021-2024 | B2: Each cell shows the total number of publications (articles and reviews) per country, period and nowt sientific fields.
B4: Landbouw- en voedingswetenschappen | C4: Sterrenkunde | D4: Fundamentele levenswetenschappen | E4: Funadmentele medische wetenschappen | F4: Biologische wetenschappen | G4: Biomedische wetenschappen | H4: Chemie en chemische technologie | I4: Civiele techniek | J4: Klinische geneeskunde | K4: Computerwetenschappen | L4: Kunst, cultuur en muziek | M4: Aardwetenschappen en technologie | N4: Economische wetenschappen | O4: Onderwijswetenschappen | P4: Electrotechniek | Q4: Energiewetenschappen | R4: Milieuwetenschappen | S4: Algemene en productietechnologie | T4: Gezondheidswetenschappen | U4: geschiedenis, filosofie en religie | V4: Informatie en communicatiewetenschappen | W4: Instrumenten en instrumentarium | X4: Taal en linguïstiek | Y4: Rechten en criminologie | Z4: Literatuurwetenschappen | AA4: Management en planning | AB4: Wiskunde | AC4: Werktuigbouwkunde | AD4: Multidisciplinaire tijdschriften | AE4: Fysica en materiaalkunde | AF4: Politieke wetenschappen | AG4: Psychologische wetenschappen | AH4: Sociale en gedragswet. - interdisciplinair | AI4: Sociologie en antropologie | AJ4: Statistiek | AK4: Totaal
A5: Australië | B5: 10640.5 | C5: 5508 | D5: 15063.75 | E5: 3375.35 | F5: 14625.533 | G5: 19023.383 | H5: 18014.35 | I5: 5021.4167 | J5: 71099.083 | K5: 10308.05 | L5: 1247.0667 | M5: 12737.333 | N5: 8597 | O5: 5579.1667 | P5: 10146.6 | Q5: 5143.75 | R5: 27014.117 | S5: 2425.0833 | T5: 18704.833 | U5: 3183.4 | V5: 1626.9167 | W5: 1170.5833 | X5: 979.83333 | Y5: 1818.1667 | Z5: 521.33333 | AA5: 3669 | AB5: 3521.3333 | AC5: 4006.9167 | AD5: 12511 | AE5: 18927.067 | AF5: 1751.5 | AG5: 8739.8333 | AH5: 2416 | AI5: 4026 | AJ5: 1880.75 | AK5: =SUM(B5:AJ5) -> 335024
A6: Oostenrijk | B6: 1941.0833 | C6: 1763.3333 | D6: 5852.5 | E6: 937.26667 | F6: 3612.1333 | G6: 6392.7167 | H6: 5702.6333 | I6: 553.08333 | J6: 19573.183 | K6: 2139.7833 | L6: 373.1 | M6: 3356.1 | N6: 1589.9167 | O6: 506.33333 | P6: 1502.4167 | Q6: 1117.9167 | R6: 5703.2833 | S6: 479.66667 | T6: 1531.5 | U6: 1049.85 | V6: 386.16667 | W6: 491.33333 | X6: 324.91667 | Y6: 161.75 | Z6: 140.5 | AA6: 678.91667 | AB6: 3075.4167 | AC6: 995.66667 | AD6: 4415.5 | AE6: 8046.4333 | AF6: 615.66667 | AG6: 1661.5833 | AH6: 413.58333 | AI6: 562.75 | AJ6: 675.01667 | AK6: =SUM(B6:AJ6) -> 88323
A7: België | B7: 3340.75 | C7: 2733.3333 | D7: 7108.0833 | E7: 1337.2 | F7: 4820.8833 | G7: 9241.7 | H7: 7412.4833 | I7: 945.83333 | J7: 27973.967 | K7: 1916.9833 | L7: 531.65 | M7: 3054.4667 | N7: 1939.8333 | O7: 917.91667 | P7: 2458.5667 | Q7: 1457.5 | R7: 7285.5 | S7: 648.58333 | T7: 2985.6667 | U7: 1543.65 | V7: 527.33333 | W7: 624.16667 | X7: 555 | Y7: 514.75 | Z7: 260.83333 | AA7: 901.66667 | AB7: 1951.1667 | AC7: 1406.9167 | AD7: 4373.1667 | AE7: 8024.4833 | AF7: 971.41667 | AG7: 2822.3333 | AH7: 614.33333 | AI7: 750.75 | AJ7: 856.13333 | AK7: =SUM(B7:AJ7) -> 114809
A8: Canada | B8: 8812.1667 | C8: 5734.6667 | D8: 18355.417 | E8: 3541.4333 | F8: 13426.25 | G8: 23790.5 | H8: 18785.717 | I8: 4351 | J8: 78245.767 | K8: 9326.3167 | L8: 1451.2333 | M8: 13318.65 | N8: 5858.9167 | O8: 3263.3333 | P8: 12187.75 | Q8: 5318.3333 | R8: 24153.067 | S8: 2417.75 | T8: 14593.083 | U8: 3532.9833 | V8: 1018.6667 | W8: 1572.1667 | X8: 1044.6667 | Y8: 1332.8333 | Z8: 909.16667 | AA8: 2616.6667 | AB8: 6646.0833 | AC8: 4846.4167 | AD8: 14109.667 | AE8: 20002.483 | AF8: 1927.0833 | AG8: 10622.667 | AH8: 2261.25 | AI8: 3350.0833 | AJ8: 3060.7667 | AK8: =SUM(B8:AJ8) -> 345785
A9: China | B9: 93809.833 | C9: 15383.5 | D9: 175076.75 | E9: 39763.117 | F9: 91746.35 | G9: 183708.7 | H9: 406578.65 | I9: 54073.083 | J9: 300231.43 | K9: 117321.77 | L9: 2741.2167 | M9: 111114.23 | N9: 28224.833 | O9: 8219.8333 | P9: 159383.93 | Q9: 83457.1 | R9: 224043.08 | S9: 38872.933 | T9: 24216.417 | U9: 4145.9667 | V9: 4001.0833 | W9: 28322.917 | X9: 3084.0833 | Y9: 1506.5833 | Z9: 1039.3333 | AA9: 10430.167 | AB9: 68832.667 | AC9: 88963.183 | AD9: 79583.833 | AE9: 415402.65 | AF9: 2078.25 | AG9: 22382.083 | AH9: 5073.75 | AI9: 4984.25 | AJ9: 15568.433 | AK9: =SUM(B9:AJ9) -> 2913366
A10: Denemarken | B10: 3544 | C10: 2479 | D10: 6829.8333 | E10: 777.7 | F10: 3774.5667 | G10: 7405.95 | H10: 4827.85 | I10: 662.58333 | J10: 26741.233 | K10: 1676.3 | L10: 253.18333 | M10: 2916.9 | N10: 1882.25 | O10: 576.16667 | P10: 2978.1333 | Q10: 1871.9167 | R10: 7066.6667 | S10: 582.75 | T10: 3132.6667 | U10: 970.93333 | V10: 408.41667 | W10: 391.5 | X10: 167.41667 | Y10: 258.58333 | Z10: 103.66667 | AA10: 1112.6667 | AB10: 903.41667 | AC10: 966.91667 | AD10: 4769.1667 | AE10: 5319.5167 | AF10: 980.58333 | AG10: 1440.9167 | AH10: 585.41667 | AI10: 820.66667 | AJ10: 608.56667 | AK10: =SUM(B10:AJ10) -> 99788
A11: Finland | B11: 1695.75 | C11: 1675.1667 | D11: 3656.1667 | E11: 665.06667 | F11: 2370.15 | G11: 3586.7167 | H11: 4261.2 | I11: 533.33333 | J11: 12634.333 | K11: 2060.6333 | L11: 289.96667 | M11: 2433.1167 | N11: 1586.5 | O11: 1249.25 | P11: 2486.9833 | Q11: 1281.9167 | R11: 6607.0667 | S11: 460.08333 | T11: 2277.5 | U11: 746.21667 | V11: 481.08333 | W11: 329.58333 | X11: 372.41667 | Y11: 210.83333 | Z11: 79.666667 | AA11: 1063.5 | AB11: 1213.75 | AC11: 644.5 | AD11: 2831.6667 | AE11: 5390.3 | AF11: 420.16667 | AG11: 1419.8333 | AH11: 517.66667 | AI11: 754 | AJ11: 362.91667 | AK11: =SUM(B11:AJ11) -> 68649
A12: Frankrijk | B12: 7343.6667 | C12: 10362.833 | D12: 21211.167 | E12: 3079.8167 | F12: 13311.233 | G12: 22532.917 | H12: 27058.267 | I12: 1895.4167 | J12: 65745.383 | K12: 7772.0333 | L12: 1087.4333 | M12: 15988.033 | N12: 7449.1667 | O12: 801.66667 | P12: 8308.6833 | Q12: 4698.4833 | R12: 18099.933 | S12: 2346.2333 | T12: 4377.4167 | U12: 3972.85 | V12: 456.41667 | W12: 1784.9167 | X12: 945.16667 | Y12: 447.75 | Z12: 1313 | AA12: 2760.0833 | AB12: 11997.833 | AC12: 6531.3167 | AD12: 13838.5 | AE12: 36105.75 | AF12: 854.58333 | AG12: 4207.1667 | AH12: 702.91667 | AI12: 1413.1667 | AJ12: 4042.8 | AK12: =SUM(B12:AJ12) -> 334844
A13: Duitsland | B13: 10451.917 | C13: 15306 | D13: 35923.75 | E13: 5934.6333 | F13: 19970.283 | G13: 38884.083 | H13: 45132.117 | I13: 3216 | J13: 103423.75 | K13: 9832.3333 | L13: 1753 | M13: 20756.633 | N13: 9918.6667 | O13: 3837.5 | P13: 9938.3 | Q13: 7752.25 | R13: 29107.45 | S13: 3274.5 | T13: 7958.5 | U13: 6034.8333 | V13: 1624.75 | W13: 3170.0833 | X13: 1888.5 | Y13: 1323.6667 | Z13: 1383.1667 | AA13: 3651.4167 | AB13: 12741.667 | AC13: 7934.6667 | AD13: 26232.5 | AE13: 57241.583 | AF13: 3280.8333 | AG13: 12709.833 | AH13: 2048.1667 | AI13: 2972.9167 | AJ13: 3767.75 | AK13: =SUM(B13:AJ13) -> 530378
A14: Ierland | B14: 2598.5833 | C14: 1032.8333 | D14: 2809.25 | E14: 678.51667 | F14: 1406.0167 | G14: 3274.3 | H14: 2858.4667 | I14: 287.83333 | J14: 12294.067 | K14: 1299.4833 | L14: 348.1 | M14: 1249.8833 | N14: 1185.3333 | O14: 992.41667 | P14: 1503.7 | Q14: 617.41667 | R14: 3031.7833 | S14: 365.75 | T14: 2759.8333 | U14: 662.26667 | V14: 190.25 | W14: 228.66667 | X14: 162.83333 | Y14: 254.25 | Z14: 191.66667 | AA14: 597.41667 | AB14: 689.25 | AC14: 521.83333 | AD14: 1941.8333 | AE14: 3145.7667 | AF14: 398.75 | AG14: 1270.6667 | AH14: 341.66667 | AI14: 467.66667 | AJ14: 218.65 | AK14: =SUM(B14:AJ14) -> 51877
A15: Italië | B15: 13636.5 | C15: 10648.667 | D15: 25727.5 | E15: 5015.0167 | F15: 13850.333 | G15: 29820.75 | H15: 26363.4 | I15: 3525.1667 | J15: 97980.767 | K15: 8674.4833 | L15: 1765.5833 | M15: 12717.417 | N15: 7226.3333 | O15: 952.75 | P15: 9781.9167 | Q15: 6473.6667 | R15: 22676.733 | S15: 3416.1667 | T15: 7191.75 | U15: 4478.9167 | V15: 507.16667 | W15: 2930.8333 | X15: 696.66667 | Y15: 863.91667 | Z15: 902.66667 | AA15: 2901.9167 | AB15: 10954.25 | AC15: 6809.8333 | AD15: 12048.5 | AE15: 30043.417 | AF15: 1354.25 | AG15: 5916.4167 | AH15: 1221.9167 | AI15: 1447.75 | AJ15: 2931.6833 | AK15: =SUM(B15:AJ15) -> 393455
A16: Japan | B16: 8734.1667 | C16: 7239.5 | D16: 25461.75 | E16: 4268.6833 | F16: 13723.017 | G16: 28942.433 | H16: 39222.15 | I16: 2511.75 | J16: 83366.433 | K16: 6762.75 | L16: 399.28333 | M16: 10751.117 | N16: 2903.1667 | O16: 881 | P16: 10550.833 | Q16: 5458.45 | R16: 13788.917 | S16: 1903.8667 | T16: 6030.25 | U16: 628.28333 | V16: 244.25 | W16: 2630.0833 | X16: 546.25 | Y16: 361.83333 | Z16: 139.33333 | AA16: 743.75 | AB16: 7286.75 | AC16: 5153.6167 | AD16: 20224.5 | AE16: 48507.567 | AF16: 519.5 | AG16: 2755.9167 | AH16: 557.08333 | AI16: 523.5 | AJ16: 1166.2667 | AK16: =SUM(B16:AJ16) -> 364888
... A25: Verenigde Staten | B25: 37341.333 | C25: 32413.333 | D25: 122026.17 | E25: 21937.633 | F25: 70071.083 | G25: 147972.77 | H25: 92032.933 | I25: 12213.083 | J25: 446679.12 | K25: 34937.733 | L25: 9111.85 | M25: 55497.367 | N25: 36465.417 | O25: 25421.5 | P25: 40077.933 | Q25: 17597.533 | R25: 89797.55 | S25: 9688.2833 | T25: 71188.167 | U25: 22736.683 | V25: 9370.5 | W25: 6033.75 | X25: 5415.6667 | Y25: 13600.333 | Z25: 7541.5 | AA25: 13335.75 | AB25: 34016.917 | AC25: 20893.2 | AD25: 81852.833 | AE25: 118996.38 | AF25: 12488.667 | AG25: 55319.75 | AH25: 10495.833 | AI25: 19934.667 | AJ25: 15773.783 | AK25: =SUM(B25:AJ25) -> 1820277
A26: Totaal | B26: =SUM(B5:B25) -> 252204 | C26: =SUM(C5:C25) -> 153078.5 | D26: =SUM(D5:D25) -> 571537.58 | E26: =SUM(E5:E25) -> 112754.33 | F26: =SUM(F5:F25) -> 331442.53 | G26: =SUM(G5:G25) -> 646592.87 | H26: =SUM(H5:H25) -> 830832.32 | I26: =SUM(I5:I25) -> 107407 | ... AK26: =SUM(AK5:AK25) -> 9361777
A28: Gemiddelde Citatie-impactscore (MNCS)
A29: 2021-2024 | B29: Each cell shows the MNCS based on fractional counting. CWTS publication-level classification system has been used.
B31: Landbouw- en voedingswetenschappen | C31: Sterrenkunde | D31: Fundamentele levenswetenschappen | E31: Funadmentele medische wetenschappen | F31: Biologische wetenschappen | G31: Biomedische wetenschappen | H31: Chemie en chemische technologie | I31: Civiele techniek | J31: Klinische geneeskunde | K31: Computerwetenschappen | L31: Kunst, cultuur en muziek | M31: Aardwetenschappen en technologie | N31: Economische wetenschappen | O31: Onderwijswetenschappen | P31: Electrotechniek | Q31: Energiewetenschappen | R31: Milieuwetenschappen | S31: Algemene en productietechnologie | T31: Gezondheidswetenschappen | U31: geschiedenis, filosofie en religie | V31: Informatie en communicatiewetenschappen | W31: Instrumenten en instrumentarium | X31: Taal en linguïstiek | Y31: Rechten en criminologie | Z31: Literatuurwetenschappen | AA31: Management en planning | AB31: Wiskunde | AC31: Werktuigbouwkunde | AD31: Multidisciplinaire tijdschriften | AE31: Fysica en materiaalkunde | AF31: Politieke wetenschappen | AG31: Psychologische wetenschappen | AH31: Sociale en gedragswet. - interdisciplinair | AI31: Sociologie en antropologie | AJ31: Statistiek
A32: Australië | B32: 1.0757226 | C32: 1.0658666 | D32: 1.2772135 | E32: 1.2013285 | F32: 1.0739967 | G32: 1.11481 | H32: 1.311601 | I32: 1.3514439 | J32: 1.1358301 | K32: 1.5769903 | L32: 0.74258572 | M32: 1.1728773 | N32: 1.0037669 | O32: 1.1444142 | P32: 1.495404 | Q32: 1.3303402 | R32: 1.2407202 | S32: 1.3666538 | T32: 1.0508164 | U32: 0.96166942 | V32: 1.0778223 | W32: 1.114222 | X32: 0.99442506 | Y32: 0.79616232 | Z32: 0.3907658 | AA32: 1.2079262 | AB32: 1.0653803 | AC32: 1.291025 | AD32: 1.4377214 | AE32: 1.2792347 | AF32: 1.0502655 | AG32: 1.1931167 | AH32: 1.0628518 | AI32: 1.1395867 | AJ32: 1.1247085
A33: Oostenrijk | B33: 0.97792449 | C33: 1.184497 | D33: 1.1313763 | E33: 0.94060982 | F33: 0.98390532 | G33: 1.0220069 | H33: 0.91368948 | I33: 0.63513446 | J33: 1.0457644 | K33: 0.91560809 | L33: 0.46864604 | M33: 1.0160551 | N33: 1.0934518 | O33: 1.1590223 | P33: 0.86634548 | Q33: 0.92663264 | R33: 1.1052648 | S33: 0.91293068 | T33: 1.012607 | U33: 0.9196204 | V33: 1.351723 | W33: 0.63564879 | X33: 1.1369045 | Y33: 0.74708989 | Z33: 0.80117663 | AA33: 1.2741258 | AB33: 0.94803636 | AC33: 0.92980722 | AD33: 1.5389129 | AE33: 1.0593163 | AF33: 1.4178004 | AG33: 0.97922358 | AH33: 1.1276058 | AI33: 1.3157336 | AJ33: 1.0005983
A34: België | B34: 1.0232859 | C34: 1.1974623 | D34: 1.2477967 | E34: 1.0083737 | F34: 1.0031253 | G34: 1.1226273 | H34: 1.0162086 | I34: 1.0819496 | J34: 1.1951288 | K34: 1.0559969 | L34: 0.57952723 | M34: 1.036669 | N34: 1.0060462 | O34: 0.99463189 | P34: 0.92311108 | Q34: 1.0989205 | R34: 1.1126383 | S34: 1.0768669 | T34: 1.0270121 | U34: 0.82903317 | V34: 0.96634407 | W34: 0.73661225 | X34: 0.88226038 | Y34: 0.69618028 | Z34: 0.4537794 | AA34: 1.1713633 | AB34: 0.86986289 | AC34: 1.0064102 | AD34: 1.416822 | AE34: 1.0335306 | AF34: 1.246731 | AG34: 1.0790441 | AH34: 0.91351044 | AI34: 0.92946028 | AJ34: 0.97918796
A35: Canada | B35: 0.99105805 | C35: 1.1314297 | D35: 1.2079288 | E35: 1.0127905 | F35: 0.95629625 | G35: 1.0334636 | H35: 1.0305495 | I35: 0.94253339 | J35: 1.1423615 | K35: 1.1714743 | L35: 0.59947002 | M35: 0.95623948 | N35: 1.0097787 | O35: 1.0148139 | P35: 1.1973507 | Q35: 1.0424257 | R35: 1.0487714 | S35: 1.1507582 | T35: 0.99924925 | U35: 0.88052831 | V35: 1.0452626 | W35: 0.98535902 | X35: 0.92243055 | Y35: 0.77523167 | Z35: 0.4839193 | AA35: 1.1840519 | AB35: 0.92228588 | AC35: 0.95612453 | AD35: 1.2966859 | AE35: 1.0229646 | AF35: 1.0123996 | AG35: 1.0657681 | AH35: 0.9456372 | AI35: 0.94521276 | AJ35: 0.97724116
A36: China | B36: 1.1926606 | C36: 0.77946454 | D36: 1.0785608 | E36: 1.1878669 | F36: 0.98397129 | G36: 0.98321485 | H36: 1.0705653 | I36: 1.2304747 | J36: 0.90807553 | K36: 1.112127 | L36: 0.89174846 | M36: 1.0483009 | N36: 1.3763412 | O36: 1.3310877 | P36: 1.1494162 | Q36: 1.1084785 | R36: 1.223652 | S36: 1.1283575 | T36: 1.0579152 | U36: 0.8290699 | V36: 1.1653116 | W36: 0.99491051 | X36: 1.1373928 | Y36: 0.7218813 | Z36: 0.69958418 | AA36: 1.3195 | AB36: 0.84545304 | AC36: 1.1395214 | AD36: 1.388941 | AE36: 0.99171265 | AF36: 0.99524252 | AG36: 0.92986012 | AH36: 0.92117295 | AI36: 1.211092 | AJ36: 1.1798663
A37: Denemarken | B37: 1.0299901 | C37: 1.4045138 | D37: 1.342085 | E37: 0.92644364 | F37: 1.1222142 | G37: 1.0324762 | H37: 1.0192385 | I37: 1.1077058 | J37: 1.1169123 | K37: 1.1100138 | L37: 0.58061417 | M37: 1.0303136 | N37: 1.2665936 | O37: 1.0605566 | P37: 1.3654003 | Q37: 1.1599582 | R37: 1.2629677 | S37: 1.1892103 | T37: 0.87523384 | U37: 1.0967865 | V37: 0.95030789 | W37: 1.1938838 | X37: 0.60252091 | Y37: 0.7838344 | Z37: 0.95668145 | AA37: 1.1916822 | AB37: 1.1977568 | AC37: 1.0778626 | AD37: 1.5897302 | AE37: 1.1019363 | AF37: 1.4684466 | AG37: 1.2155759 | AH37: 1.0367212 | AI37: 1.2190488 | AJ37: 1.090799
A38: Finland | B38: 0.9706177 | C38: 1.122579 | D38: 1.1895578 | E38: 1.0797284 | F38: 1.0162976 | G38: 0.97500726 | H38: 0.95069472 | I38: 1.0192657 | J38: 1.0182889 | K38: 1.2717357 | L38: 0.57788966 | M38: 1.0482118 | N38: 1.1338654 | O38: 1.1314769 | P38: 1.1501256 | Q38: 1.0405268 | R38: 1.131329 | S38: 1.0599579 | T38: 0.96783147 | U38: 0.96492961 | V38: 1.1187111 | W38: 0.8492261 | X38: 0.7748489 | Y38: 0.93267409 | Z38: 0.83025758 | AA38: 1.2976448 | AB38: 1.1386657 | AC38: 1.0801874 | AD38: 1.3589561 | AE38: 1.015411 | AF38: 1.0913873 | AG38: 1.175744 | AH38: 0.95369508 | AI38: 1.0513535 | AJ38: 0.94347881
A39: Frankrijk | B39: 0.90471619 | C39: 1.1534706 | D39: 1.0812299 | E39: 0.92935061 | F39: 0.97267648 | G39: 0.98427161 | H39: 0.87865068 | I39: 0.89333582 | J39: 1.0894369 | K39: 0.89247329 | L39: 0.42326767 | M39: 1.0323328 | N39: 0.99340374 | O39: 0.81370376 | P39: 0.85297461 | Q39: 0.85033438 | R39: 1.0276275 | S39: 0.97367955 | T39: 0.87446612 | U39: 0.51925381 | V39: 1.1685949 | W39: 0.70072167 | X39: 0.51862782 | Y39: 0.67406253 | Z39: 0.1507926 | AA39: 1.0749781 | AB39: 0.92281358 | AC39: 0.84811806 | AD39: 1.4697174 | AE39: 0.91061275 | AF39: 0.77711844 | AG39: 0.76170604 | AH39: 0.848055 | AI39: 0.84496818 | AJ39: 0.93689639
A40: Duitsland | B40: 0.88029755 | C40: 1.2309037 | D40: 1.1813943 | E40: 0.93623939 | F40: 1.1076668 | G40: 1.0257124 | H40: 0.9458512 | I40: 0.6278294 | J40: 0.95100187 | K40: 1.0195799 | L40: 0.5205698 | M40: 1.080757 | N40: 1.0992254 | O40: 1.0450438 | P40: 0.96142871 | Q40: 0.87829085 | R40: 1.1209619 | S40: 0.92490815 | T40: 0.89890298 | U40: 0.95182266 | V40: 1.1732054 | W40: 0.61886331 | X40: 0.78300923 | Y40: 0.64692709 | Z40: 0.56168396 | AA40: 1.2859645 | AB40: 0.97501493 | AC40: 0.87095651 | AD40: 1.5328976 | AE40: 1.0075986 | AF40: 1.3275138 | AG40: 1.0172258 | AH40: 1.008436 | AI40: 1.0883651 | AJ40: 1.0203739
A41: Ierland | B41: 1.1902261 | C41: 1.1958065 | D41: 1.2244357 | E41: 1.2631242 | F41: 1.0774532 | G41: 1.2325278 | H41: 1.1650549 | I41: 1.526724 | J41: 1.1487794 | K41: 1.129228 | L41: 0.79528757 | M41: 1.0255968 | N41: 1.1342531 | O41: 0.87432386 | P41: 1.1741631 | Q41: 1.3436717 | R41: 1.3037432 | S41: 1.2144806 | T41: 1.144099 | U41: 1.0226593 | V41: 1.2970201 | W41: 1.1152383 | X41: 0.78916112 | Y41: 0.66835976 | Z41: 1.0033123 | AA41: 1.2622806 | AB41: 0.70034744 | AC41: 1.1080258 | AD41: 1.146862 | AE41: 1.0118254 | AF41: 1.182916 | AG41: 1.2724287 | AH41: 1.0286965 | AI41: 0.96447185 | AJ41: 1.1912276
A42: Italië | B42: 1.1405699 | C42: 1.0817505 | D42: 1.1200103 | E42: 1.0436342 | F42: 0.9831224 | G42: 1.0418791 | H42: 0.98796288 | I42: 1.1725893 | J42: 1.1023245 | K42: 0.99439732 | L42: 0.45214769 | M42: 1.0315998 | N42: 1.0867226 | O42: 0.96786073 | P42: 0.96933772 | Q42: 0.91794287 | R42: 1.0460112 | S42: 0.94024917 | T42: 0.98743122 | U42: 0.57410742 | V42: 1.0842762 | W42: 0.78774335 | X42: 0.50784799 | Y42: 0.80231751 | Z42: 0.38792541 | AA42: 1.3128778 | AB42: 1.0139957 | AC42: 1.0471587 | AD42: 1.1669314 | AE42: 0.95240698 | AF42: 1.2757072 | AG42: 1.0340921 | AH42: 1.037018 | AI42: 1.0742819 | AJ42: 0.91866709
A43: Japan | B43: 0.52504092 | C43: 0.91677924 | D43: 0.74641644 | E43: 0.58096413 | F43: 0.63178834 | G43: 0.62472807 | H43: 0.6264466 | I43: 0.81628729 | J43: 0.67216927 | K43: 0.61400013 | L43: 0.40045044 | M43: 0.73440333 | N43: 0.61148522 | O43: 0.69634495 | P43: 0.59369484 | Q43: 0.73617832 | R43: 0.77491458 | S43: 0.72781822 | T43: 0.64823958 | U43: 0.5360444 | V43: 0.59154276 | W43: 0.50143915 | X43: 0.75224695 | Y43: 0.44892003 | Z43: 0.31239779 | AA43: 0.78386897 | AB43: 0.64561079 | AC43: 0.70820101 | AD43: 0.94580004 | AE43: 0.66827365 | AF43: 0.66859363 | AG43: 0.59201201 | AH43: 0.65820511 | AI43: 0.6026929 | AJ43: 0.58795823
... A52: Verenigde Staten | B52: 0.95427746 | C52: 1.27738 | D52: 1.3468288 | E52: 1.0668784 | F52: 0.99291825 | G52: 1.1598868 | H52: 1.1227752 | I52: 0.90878256 | J52: 1.2115336 | K52: 1.11625 | L52: 0.71889355 | M52: 1.0949059 | N52: 1.278977 | O52: 0.91722887 | P52: 1.1609901 | Q52: 1.0041464 | R52: 1.0718051 | S52: 1.0494047 | T52: 0.86902417 | U52: 0.95698697 | V52: 0.9554225 | W52: 0.79341441 | X52: 1.0272634 | Y52: 1.0110128 | Z52: 0.6795508 | AA52: 1.2667536 | AB52: 1.0414706 | AC52: 0.89550229 | AD52: 1.884542 | AE52: 1.1420799 | AF52: 1.2584273 | AG52: 1.1206211 | AH52: 1.0210268 | AI52: 1.0406496 | AJ52: 1.0825789

Sheet OSI
B3: Landbouw- en voedingswetenschappen | C3: Sterrenkunde | D3: Fundamentele levenswetenschappen | E3: Funadmentele medische wetenschappen | F3: Biologische wetenschappen | G3: Biomedische wetenschappen | H3: Chemie en chemische technologie | I3: Civiele techniek | J3: Klinische geneeskunde | K3: Computerwetenschappen | L3: Kunst, cultuur en muziek | M3: Aardwetenschappen en technologie | N3: Economische wetenschappen | O3: Onderwijswetenschappen | P3: Electrotechniek | Q3: Energiewetenschappen | R3: Milieuwetenschappen | S3: Algemene en productietechnologie | T3: Gezondheidswetenschappen | U3: geschiedenis, filosofie en religie | V3: Informatie en communicatiewetenschappen | W3: Instrumenten en instrumentarium | X3: Taal en linguïstiek | Y3: Rechten en criminologie | Z3: Literatuurwetenschappen | AA3: Management en planning | AB3: Wiskunde | AC3: Werktuigbouwkunde | AD3: Multidisciplinaire tijdschriften | AE3: Fysica en materiaalkunde | AF3: Politieke wetenschappen | AG3: Psychologische wetenschappen | AH3: Sociale en gedragswet. - interdisciplinair | AI3: Sociologie en antropologie | AJ3: Statistiek | AK3: Total
A4: Australia | B4: =(basiscijfers!B5/basiscijfers!$AK5)/(basiscijfers!B$26/basiscijfers!$AK$26) -> 1.178942 | C4: =(basiscijfers!C5/basiscijfers!$AK5)/(basiscijfers!C$26/basiscijfers!$AK$26) -> 1.0054538 | D4: =(basiscijfers!D5/basiscijfers!$AK5)/(basiscijfers!D$26/basiscijfers!$AK$26) -> 0.73649648 | E4: =(basiscijfers!E5/basiscijfers!$AK5)/(basiscijfers!E$26/basiscijfers!$AK$26) -> 0.83650385 | F4: =(basiscijfers!F5/basiscijfers!$AK5)/(basiscijfers!F$26/basiscijfers!$AK$26) -> 1.2330646 | G4: =(basiscijfers!G5/basiscijfers!$AK5)/(basiscijfers!G$26/basiscijfers!$AK$26) -> 0.82212759 | H4: =(basiscijfers!H5/basiscijfers!$AK5)/(basiscijfers!H$26/basiscijfers!$AK$26) -> 0.60588135 | I4: =(basiscijfers!I5/basiscijfers!$AK5)/(basiscijfers!I$26/basiscijfers!$AK$26) -> 1.3063996 | ... AK4: =(basiscijfers!AK5/basiscijfers!$AK5)/(basiscijfers!AK$26/basiscijfers!$AK$26) -> 1
A5: Austria | B5: =(basiscijfers!B6/basiscijfers!$AK6)/(basiscijfers!B$26/basiscijfers!$AK$26) -> 0.81578683 | C5: =(basiscijfers!C6/basiscijfers!$AK6)/(basiscijfers!C$26/basiscijfers!$AK$26) -> 1.2209692 | D5: =(basiscijfers!D6/basiscijfers!$AK6)/(basiscijfers!D$26/basiscijfers!$AK$26) -> 1.0853782 | E5: =(basiscijfers!E6/basiscijfers!$AK6)/(basiscijfers!E$26/basiscijfers!$AK$26) -> 0.88107811 | F5: =(basiscijfers!F6/basiscijfers!$AK6)/(basiscijfers!F$26/basiscijfers!$AK$26) -> 1.1551543 | G5: =(basiscijfers!G6/basiscijfers!$AK6)/(basiscijfers!G$26/basiscijfers!$AK$26) -> 1.0479463 | H5: =(basiscijfers!H6/basiscijfers!$AK6)/(basiscijfers!H$26/basiscijfers!$AK$26) -> 0.7275227 | I5: =(basiscijfers!I6/basiscijfers!$AK6)/(basiscijfers!I$26/basiscijfers!$AK$26) -> 0.54581123 | ... AK5: =(basiscijfers!AK6/basiscijfers!$AK6)/(basiscijfers!AK$26/basiscijfers!$AK$26) -> 1
A6: Belgium | B6: =(basiscijfers!B7/basiscijfers!$AK7)/(basiscijfers!B$26/basiscijfers!$AK$26) -> 1.0801259 | C6: =(basiscijfers!C7/basiscijfers!$AK7)/(basiscijfers!C$26/basiscijfers!$AK$26) -> 1.4559979 | D6: =(basiscijfers!D7/basiscijfers!$AK7)/(basiscijfers!D$26/basiscijfers!$AK$26) -> 1.0141217 | E6: =(basiscijfers!E7/basiscijfers!$AK7)/(basiscijfers!E$26/basiscijfers!$AK$26) -> 0.96704233 | F6: =(basiscijfers!F7/basiscijfers!$AK7)/(basiscijfers!F$26/basiscijfers!$AK$26) -> 1.1860438 | G6: =(basiscijfers!G7/basiscijfers!$AK7)/(basiscijfers!G$26/basiscijfers!$AK$26) -> 1.1654759 | H6: =(basiscijfers!H7/basiscijfers!$AK7)/(basiscijfers!H$26/basiscijfers!$AK$26) -> 0.72749951 | I6: =(basiscijfers!I7/basiscijfers!$AK7)/(basiscijfers!I$26/basiscijfers!$AK$26) -> 0.71806604 | ... AK6: =(basiscijfers!AK7/basiscijfers!$AK7)/(basiscijfers!AK$26/basiscijfers!$AK$26) -> 1
A7: Canada | B7: =(basiscijfers!B8/basiscijfers!$AK8)/(basiscijfers!B$26/basiscijfers!$AK$26) -> 0.945982 | C7: =(basiscijfers!C8/basiscijfers!$AK8)/(basiscijfers!C$26/basiscijfers!$AK$26) -> 1.0142526 | D7: =(basiscijfers!D8/basiscijfers!$AK8)/(basiscijfers!D$26/basiscijfers!$AK$26) -> 0.86950402 | E7: =(basiscijfers!E8/basiscijfers!$AK8)/(basiscijfers!E$26/basiscijfers!$AK$26) -> 0.8503505 | F7: =(basiscijfers!F8/basiscijfers!$AK8)/(basiscijfers!F$26/basiscijfers!$AK$26) -> 1.0967272 | G7: =(basiscijfers!G8/basiscijfers!$AK8)/(basiscijfers!G$26/basiscijfers!$AK$26) -> 0.99615015 | H7: =(basiscijfers!H8/basiscijfers!$AK8)/(basiscijfers!H$26/basiscijfers!$AK$26) -> 0.61216223 | I7: =(basiscijfers!I8/basiscijfers!$AK8)/(basiscijfers!I$26/basiscijfers!$AK$26) -> 1.0967525 | ... AK7: =(basiscijfers!AK8/basiscijfers!$AK8)/(basiscijfers!AK$26/basiscijfers!$AK$26) -> 1
A8: China | B8: =(basiscijfers!B9/basiscijfers!$AK9)/(basiscijfers!B$26/basiscijfers!$AK$26) -> 1.1952524 | C8: =(basiscijfers!C9/basiscijfers!$AK9)/(basiscijfers!C$26/basiscijfers!$AK$26) -> 0.32292688 | D8: =(basiscijfers!D9/basiscijfers!$AK9)/(basiscijfers!D$26/basiscijfers!$AK$26) -> 0.98434406 | E8: =(basiscijfers!E9/basiscijfers!$AK9)/(basiscijfers!E$26/basiscijfers!$AK$26) -> 1.1332101 | F8: =(basiscijfers!F9/basiscijfers!$AK9)/(basiscijfers!F$26/basiscijfers!$AK$26) -> 0.88949559 | G8: =(basiscijfers!G9/basiscijfers!$AK9)/(basiscijfers!G$26/basiscijfers!$AK$26) -> 0.91298167 | H8: =(basiscijfers!H9/basiscijfers!$AK9)/(basiscijfers!H$26/basiscijfers!$AK$26) -> 1.5725137 | I8: =(basiscijfers!I9/basiscijfers!$AK9)/(basiscijfers!I$26/basiscijfers!$AK$26) -> 1.6177514 | ... AK8: =(basiscijfers!AK9/basiscijfers!$AK9)/(basiscijfers!AK$26/basiscijfers!$AK$26) -> 1
A9: Denmark | B9: =(basiscijfers!B10/basiscijfers!$AK10)/(basiscijfers!B$26/basiscijfers!$AK$26) -> 1.3183227 | C9: =(basiscijfers!C10/basiscijfers!$AK10)/(basiscijfers!C$26/basiscijfers!$AK$26) -> 1.5192957 | D9: =(basiscijfers!D10/basiscijfers!$AK10)/(basiscijfers!D$26/basiscijfers!$AK$26) -> 1.1211024 | E9: =(basiscijfers!E10/basiscijfers!$AK10)/(basiscijfers!E$26/basiscijfers!$AK$26) -> 0.64708127 | F9: =(basiscijfers!F10/basiscijfers!$AK10)/(basiscijfers!F$26/basiscijfers!$AK$26) -> 1.0684122 | G9: =(basiscijfers!G10/basiscijfers!$AK10)/(basiscijfers!G$26/basiscijfers!$AK$26) -> 1.0745579 | H9: =(basiscijfers!H10/basiscijfers!$AK10)/(basiscijfers!H$26/basiscijfers!$AK$26) -> 0.54515545 | I9: =(basiscijfers!I10/basiscijfers!$AK10)/(basiscijfers!I$26/basiscijfers!$AK$26) -> 0.57874586 | ... AK9: =(basiscijfers!AK10/basiscijfers!$AK10)/(basiscijfers!AK$26/basiscijfers!$AK$26) -> 1
A10: Finland | B10: =(basiscijfers!B11/basiscijfers!$AK11)/(basiscijfers!B$26/basiscijfers!$AK$26) -> 0.91692525 | C10: =(basiscijfers!C11/basiscijfers!$AK11)/(basiscijfers!C$26/basiscijfers!$AK$26) -> 1.4923404 | D10: =(basiscijfers!D11/basiscijfers!$AK11)/(basiscijfers!D$26/basiscijfers!$AK$26) -> 0.87237913 | E10: =(basiscijfers!E11/basiscijfers!$AK11)/(basiscijfers!E$26/basiscijfers!$AK$26) -> 0.80437028 | F10: =(basiscijfers!F11/basiscijfers!$AK11)/(basiscijfers!F$26/basiscijfers!$AK$26) -> 0.97519546 | G10: =(basiscijfers!G11/basiscijfers!$AK11)/(basiscijfers!G$26/basiscijfers!$AK$26) -> 0.75646744 | H10: =(basiscijfers!H11/basiscijfers!$AK11)/(basiscijfers!H$26/basiscijfers!$AK$26) -> 0.69942736 | I10: =(basiscijfers!I11/basiscijfers!$AK11)/(basiscijfers!I$26/basiscijfers!$AK$26) -> 0.67715832 | ... AK10: =(basiscijfers!AK11/basiscijfers!$AK11)/(basiscijfers!AK$26/basiscijfers!$AK$26) -> 1
A11: France | B11: =(basiscijfers!B12/basiscijfers!$AK12)/(basiscijfers!B$26/basiscijfers!$AK$26) -> 0.81409813 | C11: =(basiscijfers!C12/basiscijfers!$AK12)/(basiscijfers!C$26/basiscijfers!$AK$26) -> 1.8926926 | D11: =(basiscijfers!D12/basiscijfers!$AK12)/(basiscijfers!D$26/basiscijfers!$AK$26) -> 1.0376133 | E11: =(basiscijfers!E12/basiscijfers!$AK12)/(basiscijfers!E$26/basiscijfers!$AK$26) -> 0.76367293 | F11: =(basiscijfers!F12/basiscijfers!$AK12)/(basiscijfers!F$26/basiscijfers!$AK$26) -> 1.1228606 | G11: =(basiscijfers!G12/basiscijfers!$AK12)/(basiscijfers!G$26/basiscijfers!$AK$26) -> 0.97432147 | H11: =(basiscijfers!H12/basiscijfers!$AK12)/(basiscijfers!H$26/basiscijfers!$AK$26) -> 0.91054699 | I11: =(basiscijfers!I12/basiscijfers!$AK12)/(basiscijfers!I$26/basiscijfers!$AK$26) -> 0.4933872 | ... AK11: =(basiscijfers!AK12/basiscijfers!$AK12)/(basiscijfers!AK$26/basiscijfers!$AK$26) -> 1
A12: Germany | B12: =(basiscijfers!B13/basiscijfers!$AK13)/(basiscijfers!B$26/basiscijfers!$AK$26) -> 0.73150409 | C12: =(basiscijfers!C13/basiscijfers!$AK13)/(basiscijfers!C$26/basiscijfers!$AK$26) -> 1.7649008 | D12: =(basiscijfers!D13/basiscijfers!$AK13)/(basiscijfers!D$26/basiscijfers!$AK$26) -> 1.1094549 | E12: =(basiscijfers!E13/basiscijfers!$AK13)/(basiscijfers!E$26/basiscijfers!$AK$26) -> 0.92903792 | F12: =(basiscijfers!F13/basiscijfers!$AK13)/(basiscijfers!F$26/basiscijfers!$AK$26) -> 1.0635276 | G12: =(basiscijfers!G13/basiscijfers!$AK13)/(basiscijfers!G$26/basiscijfers!$AK$26) -> 1.0614847 | H12: =(basiscijfers!H13/basiscijfers!$AK13)/(basiscijfers!H$26/basiscijfers!$AK$26) -> 0.95883772 | I12: =(basiscijfers!I13/basiscijfers!$AK13)/(basiscijfers!I$26/basiscijfers!$AK$26) -> 0.52851369 | ... AK12: =(basiscijfers!AK13/basiscijfers!$AK13)/(basiscijfers!AK$26/basiscijfers!$AK$26) -> 1
A13: Ireland | B13: =(basiscijfers!B14/basiscijfers!$AK14)/(basiscijfers!B$26/basiscijfers!$AK$26) -> 1.8593798 | C13: =(basiscijfers!C14/basiscijfers!$AK14)/(basiscijfers!C$26/basiscijfers!$AK$26) -> 1.2175856 | D13: =(basiscijfers!D14/basiscijfers!$AK14)/(basiscijfers!D$26/basiscijfers!$AK$26) -> 0.88701106 | E13: =(basiscijfers!E14/basiscijfers!$AK14)/(basiscijfers!E$26/basiscijfers!$AK$26) -> 1.0859522 | F13: =(basiscijfers!F14/basiscijfers!$AK14)/(basiscijfers!F$26/basiscijfers!$AK$26) -> 0.76553609 | G13: =(basiscijfers!G14/basiscijfers!$AK14)/(basiscijfers!G$26/basiscijfers!$AK$26) -> 0.91384175 | H13: =(basiscijfers!H14/basiscijfers!$AK14)/(basiscijfers!H$26/basiscijfers!$AK$26) -> 0.62087359 | I13: =(basiscijfers!I14/basiscijfers!$AK14)/(basiscijfers!I$26/basiscijfers!$AK$26) -> 0.48360629 | ... AK13: =(basiscijfers!AK14/basiscijfers!$AK14)/(basiscijfers!AK$26/basiscijfers!$AK$26) -> 1
A14: Italy | B14: =(basiscijfers!B15/basiscijfers!$AK15)/(basiscijfers!B$26/basiscijfers!$AK$26) -> 1.286513 | C14: =(basiscijfers!C15/basiscijfers!$AK15)/(basiscijfers!C$26/basiscijfers!$AK$26) -> 1.6551763 | D14: =(basiscijfers!D15/basiscijfers!$AK15)/(basiscijfers!D$26/basiscijfers!$AK$26) -> 1.0710655 | E14: =(basiscijfers!E15/basiscijfers!$AK15)/(basiscijfers!E$26/basiscijfers!$AK$26) -> 1.0582843 | F14: =(basiscijfers!F15/basiscijfers!$AK15)/(basiscijfers!F$26/basiscijfers!$AK$26) -> 0.99429489 | G14: =(basiscijfers!G15/basiscijfers!$AK15)/(basiscijfers!G$26/basiscijfers!$AK$26) -> 1.0973644 | H14: =(basiscijfers!H15/basiscijfers!$AK15)/(basiscijfers!H$26/basiscijfers!$AK$26) -> 0.75500749 | I14: =(basiscijfers!I15/basiscijfers!$AK15)/(basiscijfers!I$26/basiscijfers!$AK$26) -> 0.78092674 | ... AK14: =(basiscijfers!AK15/basiscijfers!$AK15)/(basiscijfers!AK$26/basiscijfers!$AK$26) -> 1
A15: Japan | B15: =(basiscijfers!B16/basiscijfers!$AK16)/(basiscijfers!B$26/basiscijfers!$AK$26) -> 0.88852206 | C15: =(basiscijfers!C16/basiscijfers!$AK16)/(basiscijfers!C$26/basiscijfers!$AK$26) -> 1.2133695 | D15: =(basiscijfers!D16/basiscijfers!$AK16)/(basiscijfers!D$26/basiscijfers!$AK$26) -> 1.1429893 | E15: =(basiscijfers!E16/basiscijfers!$AK16)/(basiscijfers!E$26/basiscijfers!$AK$26) -> 0.97131346 | F15: =(basiscijfers!F16/basiscijfers!$AK16)/(basiscijfers!F$26/basiscijfers!$AK$26) -> 1.0622826 | G15: =(basiscijfers!G16/basiscijfers!$AK16)/(basiscijfers!G$26/basiscijfers!$AK$26) -> 1.1484255 | H15: =(basiscijfers!H16/basiscijfers!$AK16)/(basiscijfers!H$26/basiscijfers!$AK$26) -> 1.2112024 | I15: =(basiscijfers!I16/basiscijfers!$AK16)/(basiscijfers!I$26/basiscijfers!$AK$26) -> 0.59998796 | ... AK15: =(basiscijfers!AK16/basiscijfers!$AK16)/(basiscijfers!AK$26/basiscijfers!$AK$26) -> 1
... A25: Total | B25: =(basiscijfers!B26/basiscijfers!$AK26)/(basiscijfers!B$26/basiscijfers!$AK$26) -> 1 | C25: =(basiscijfers!C26/basiscijfers!$AK26)/(basiscijfers!C$26/basiscijfers!$AK$26) -> 1 | D25: =(basiscijfers!D26/basiscijfers!$AK26)/(basiscijfers!D$26/basiscijfers!$AK$26) -> 1 | E25: =(basiscijfers!E26/basiscijfers!$AK26)/(basiscijfers!E$26/basiscijfers!$AK$26) -> 1 | F25: =(basiscijfers!F26/basiscijfers!$AK26)/(basiscijfers!F$26/basiscijfers!$AK$26) -> 1 | G25: =(basiscijfers!G26/basiscijfers!$AK26)/(basiscijfers!G$26/basiscijfers!$AK$26) -> 1 | H25: =(basiscijfers!H26/basiscijfers!$AK26)/(basiscijfers!H$26/basiscijfers!$AK$26) -> 1 | I25: =(basiscijfers!I26/basiscijfers!$AK26)/(basiscijfers!I$26/basiscijfers!$AK$26) -> 1 | ... AK25: =(basiscijfers!AK26/basiscijfers!$AK26)/(basiscijfers!AK$26/basiscijfers!$AK$26) -> 1
A29: De OSI voor Nederland is berekend als het aandeel van het aantal publicaties binnen een specifieke discipline voor Nederland op het totaal van de Nederlandse publicaties gedeeld door datzelfde aandeel op het niveau van het totaal van alle landen in de tabel.
A31: Als voorbeeld: | C31: OSI landbouw en voedingswetenschappen
D33: NL publicaties landbouw- en voedingswetenschappen / totaal aantal NL publicaties | N33: =basiscijfers!B16 -> 8734.1667 | O33: / | P33: =basiscijfers!AK16 -> 364888 | R33: =N33/P33*100 -> 2.3936569
C34: ------------------------------------------------------------------------------------------------------ | D34: ----------------------------------------------------------------------------------------------------------------- | N34: ------------------------------------- | R34: ------------ | S34: = | T34: =R33/R35 -> 0.88852206
C35: Publicaties landbouw- en voedingswetenschappen alle landen / Totaal aantal publicatiea alle landen | N35: =basiscijfers!B26 -> 252204 | O35: / | P35: =basiscijfers!AK26 -> 9361777 | R35: =N35/P35*100 -> 2.6939757
A37: Bron: CWTS / Web of Science, Clarivate Analytics. Verdere bewerking: Rathenau Insituut
A38: *) Gebiedsgenormeerde citatie-impactscores CI (mondiaal gemiddelde = 1,0).
A39: ten opzichte van het mondiale gemiddelde aan ontvangen citaties per gebied (mondiaal gemiddelde = 1,0).
A40: **) OSI Onderzoekspecialisatie-index: percentage Nederlandse onderzoekspublicaties per gebied in de totale Nederlandse publicatie-output
A41: gedeeld door het gemiddelde percentage van dezelfde gebied in de publicatie-output van
A42: alle referentielanden tezamen ongewogen naar publicatieomvang van de landen (mondiaal gemiddelde = 1,0).
B45: Landbouw- en voedingswetenschappen | C45: Sterrenkunde | D45: Fundamentele levenswetenschappen | E45: Funadmentele medische wetenschappen | F45: Biologische wetenschappen | G45: Biomedische wetenschappen | H45: Chemie en chemische technologie | I45: Civiele techniek | J45: Klinische geneeskunde | K45: Computerwetenschappen | L45: Kunst, cultuur en muziek | M45: Aardwetenschappen en technologie | N45: Economische wetenschappen | O45: Onderwijswetenschappen | P45: Electrotechniek | Q45: Energiewetenschappen | R45: Milieuwetenschappen | S45: Algemene en productietechnologie | T45: Gezondheidswetenschappen | U45: geschiedenis, filosofie en religie | V45: Informatie en communicatiewetenschappen | W45: Instrumenten en instrumentarium | X45: Taal en linguïstiek | Y45: Rechten en criminologie | Z45: Literatuurwetenschappen | AA45: Management en planning | AB45: Wiskunde | AC45: Werktuigbouwkunde | AD45: Multidisciplinaire tijdschriften | AE45: Fysica en materiaalkunde | AF45: Politieke wetenschappen | AG45: Psychologische wetenschappen | AH45: Sociale en gedragswet. - interdisciplinair | AI45: Sociologie en antropologie | AJ45: Statistiek
A46: OSI | B46: =B16 -> 1.0271591 | C46: =C16 -> 1.7357158 | D46: =D16 -> 0.94151993 | E46: =E16 -> 0.94634031 | F46: =F16 -> 0.84615371 | G46: =G16 -> 1.2085227 | H46: =H16 -> 0.49333212 | I46: =I16 -> 0.59818455 | ... AJ46: =AJ16 -> 1.166908
A47: Citatie-impact | B47: =basiscijfers!B44 -> 1.2071564 | C47: =basiscijfers!C44 -> 1.3347419 | D47: =basiscijfers!D44 -> 1.3243621 | E47: =basiscijfers!E44 -> 1.1043762 | F47: =basiscijfers!F44 -> 1.2325459 | G47: =basiscijfers!G44 -> 1.1713909 | H47: =basiscijfers!H44 -> 1.2616426 | I47: =basiscijfers!I44 -> 1.2837788 | ... AJ47: =basiscijfers!AJ44 -> 1.0537301

Sheet Profiel voor website
A1: Voor website (2021-2024)
B3: Benedengemiddeld (OSI≤0,8) | C3: Gemiddeld (0,8<OSI<1,2) | D3: Bovengemiddeld (OSI≥1,2)
A4: Zeer hoog (CI≥1,5) | C4: Multidisciplinaire tijdschriften
A5: Hoog (1,3<CI<1,5) | C5: Fundamentele Levenswetenschappen | D5: Sterrenkunde
D6: Informatie en communicatiewetenschappen
D7: Management en planning
D8: Politieke wetenschappen
D9: Psychologische wetenschappen
A10: Bovengemiddeld (1,1<CI≤1,3) | B10: Chemie en chemische technologie | C10: Landbouw- en voedingswetenschappen | D10: Biomedische wetenschappen
B11: Civiele techniek | C11: Biologische wetenschappen | D11: Klinische geneeskunde
B12: Computerwetenschappen | C12: Aardwetenschappen en technologie | D12: Economische wetenschappen
B13: Electrotechniek | C13: Milieuwetenschappen | D13: Onderwijswetenschappen
B14: Energiewetenschappen | D14: Gezondheidswetenschappen
B15: Algemene en productie technologie | D15: Geschiedenis, filosofie, en religie*
B16: Fysica en materiaalkunde | D16: Taal en linguïstiek*
D17: Sociale en gedragswet. - interdisciplinair
D18: Sociologie en antropologie
A19: Gemiddeld (0,9<CI≤1,1) | B19: Wiskunde | C19: Fundamentele medische wetenshappen
B20: Werktuigbouwkunde | C20: Kunsten, cultuur en muziek*
C21: Statistiek
A22: Benedengemiddeld (0,6<CI≤0,9) | B22: Instrumenten en instrumentarium | D22: Rechten en criminologie
B23: Literatuurwetenschappen*
